BEGIN:VCALENDAR
VERSION:2.0
PRODID:-//wp-events-plugin.com//7.2.3.1//EN
TZID:Europe/Amsterdam
X-WR-TIMEZONE:Europe/Amsterdam
BEGIN:VEVENT
UID:1786@beckum.nl
DTSTART;TZID=Europe/Amsterdam:20260607T000000
DTEND;TZID=Europe/Amsterdam:20260607T000000
DTSTAMP:20260227T072838Z
URL:https://www.beckum.nl/evenementen/bmw-carmeeting-2/
SUMMARY:BMW Carmeeting
DESCRIPTION:Locatie: Het Wapen van Beckum\n
END:VEVENT
BEGIN:VTIMEZONE
TZID:Europe/Amsterdam
X-LIC-LOCATION:Europe/Amsterdam
BEGIN:DAYLIGHT
DTSTART:20260329T030000
TZOFFSETFROM:+0100
TZOFFSETTO:+0200
TZNAME:CEST
END:DAYLIGHT
END:VTIMEZONE
END:VCALENDAR