BEGIN:VCALENDAR
VERSION:2.0
PRODID:-//wp-events-plugin.com//7.2.3.1//EN
TZID:Europe/Amsterdam
X-WR-TIMEZONE:Europe/Amsterdam
BEGIN:VEVENT
UID:1741@beckum.nl
DTSTART;TZID=Europe/Amsterdam:20260607T110000
DTEND;TZID=Europe/Amsterdam:20260607T160000
DTSTAMP:20251113T082731Z
URL:https://www.beckum.nl/evenementen/bmw-carmeeting/
SUMMARY:BMW carmeeting
DESCRIPTION:7 juni BMW Club Twente Meeting\; van 11.00-16.00 uur. \n\nLocat
 ie: Wapen van Beckum
ATTACH;FMTTYPE=image/jpeg:https://www.beckum.nl/site/main/wp-content/uploa
 ds/2025/05/IMG_8607.png
END:VEVENT
BEGIN:VTIMEZONE
TZID:Europe/Amsterdam
X-LIC-LOCATION:Europe/Amsterdam
BEGIN:DAYLIGHT
DTSTART:20260329T030000
TZOFFSETFROM:+0100
TZOFFSETTO:+0200
TZNAME:CEST
END:DAYLIGHT
END:VTIMEZONE
END:VCALENDAR