BEGIN:VCALENDAR
VERSION:2.0
PRODID:-//wp-events-plugin.com//7.2.3.1//EN
TZID:Europe/Amsterdam
X-WR-TIMEZONE:Europe/Amsterdam
BEGIN:VEVENT
UID:1735@beckum.nl
DTSTART;TZID=Europe/Amsterdam:20260506T170000
DTEND;TZID=Europe/Amsterdam:20260506T201500
DTSTAMP:20251113T081114Z
URL:https://www.beckum.nl/evenementen/erve-knippert-de-onvergetelijke-kook
 club-5/
SUMMARY:Erve Knippert: De Onvergetelijke Kookclub
DESCRIPTION:De Onvergetelijke Kookclub in bij Erve Knippert in Stepelo bied
 t een waardevolle en gezellige activiteit voor mensen met dementie en hun 
 mantelzorgers of naasten. Op zorgboerderij Erve Knippert komen zij maandel
 ijks samen om te koken\, te eten en lotgenoten te ontmoeten in een ongedwo
 ngen sfeer.\n\nWat is de Onvergetelijke Kookclub?\nDit landelijke initiati
 ef van Resto VanHarte en Alzheimer Nederland is sinds mei 2022 actief op E
 rve Knippert\, aan de Hulstweg 11 in Haaksbergen (Stepelo). De bijeenkomst
 en staan in het teken van samen kokkerellen in de keuken. Deelnemers\, alt
 ijd samen met een dierbare (partner\, kind\, vriend of goede buur)\, berei
 den onder begeleiding van een professionele kok een driegangenmenu.\n\nPle
 zier en lotgenotencontact\nHet doel is simpel: plezier beleven aan wat nog
  wel kan. Niets moet\, alles mag. De gezelligheid en het gevoel van nuttig
  bezig zijn staan centraal. Na de voorbereidingen en het koken schuiven de
  deelnemers samen aan de feestelijk gedekte tafel om te genieten van de ma
 altijd en elkaars gezelschap. Mantelzorgers ervaren hierbij de gelegenheid
  om spontaan ervaringen te delen met lotgenoten.\n\nPraktische Informatie\
 nVoor wie: Mensen met dementie\, samen met een mantelzorger of naaste.\nWa
 nneer: Elke eerste woensdag van de maand.\nTijd: Van 17.00 tot 20.15 uur.\
 nLocatie: Erve Knippert\, Hulstweg 11\, Haaksbergen.\nKosten: € 10\,00 p
 er persoon (voor het driegangendiner).\n\nAanmelden: Graag vooraf via 074-
 3676511 (Erve Knippert).
ATTACH;FMTTYPE=image/jpeg:https://www.beckum.nl/site/main/wp-content/uploa
 ds/2017/02/knippert.jpg
END:VEVENT
BEGIN:VTIMEZONE
TZID:Europe/Amsterdam
X-LIC-LOCATION:Europe/Amsterdam
BEGIN:DAYLIGHT
DTSTART:20260329T030000
TZOFFSETFROM:+0100
TZOFFSETTO:+0200
TZNAME:CEST
END:DAYLIGHT
END:VTIMEZONE
END:VCALENDAR