BEGIN:VCALENDAR
VERSION:2.0
PRODID:-//wp-events-plugin.com//7.2.3.1//EN
TZID:Europe/Amsterdam
X-WR-TIMEZONE:Europe/Amsterdam
BEGIN:VEVENT
UID:1806@beckum.nl
DTSTART;TZID=Europe/Amsterdam:20260520T000000
DTEND;TZID=Europe/Amsterdam:20260520T000000
DTSTAMP:20260414T172620Z
URL:https://www.beckum.nl/evenementen/fietstocht-vrouw-actief/
SUMMARY:Fietstocht Vrouw Actief
DESCRIPTION:Fietstocht Vrouw Actief. 
ATTACH;FMTTYPE=image/jpeg:https://www.beckum.nl/site/main/wp-content/uploa
 ds/2014/11/LOGO-Vrouw-Actief-300px.png
END:VEVENT
BEGIN:VTIMEZONE
TZID:Europe/Amsterdam
X-LIC-LOCATION:Europe/Amsterdam
BEGIN:DAYLIGHT
DTSTART:20260329T030000
TZOFFSETFROM:+0100
TZOFFSETTO:+0200
TZNAME:CEST
END:DAYLIGHT
END:VTIMEZONE
END:VCALENDAR