BEGIN:VCALENDAR
VERSION:2.0
PRODID:-//wp-events-plugin.com//7.2.3.1//EN
TZID:Europe/Amsterdam
X-WR-TIMEZONE:Europe/Amsterdam
BEGIN:VEVENT
UID:1772@beckum.nl
DTSTART;TZID=Europe/Amsterdam:20260418T200000
DTEND;TZID=Europe/Amsterdam:20260418T235900
DTSTAMP:20260125T174055Z
URL:https://www.beckum.nl/evenementen/hard-voor-beckum-boh-foi-toch/
SUMMARY:Hard voor Beckum - Boh Foi Toch
DESCRIPTION:De nieuwe Stichting Hard Voor Beckum maakte bekend dat de Achte
 rhoekse formatie Boh Foi Toch op zaterdag 18 april naar Beckum komt! Het o
 ptreden zal bij Het Wapen van Beckum zijn.\n\nBoh Foi Toch\, opgericht in 
 1989\, is een Achterhoekse band die bekend staat om hun mix van tex-mex\, 
 cajun en rock met Nedersaksische teksten. Ze staan garant voor energieke o
 ptredens in feesttenten en zalen en staan al jaren op het podium van De Zw
 arte Cross.\n\nDe Stichting Hard Voor Beckum ondersteunt met diverse activ
 iteiten\, de realisatie van de multifunctionele accommodatie (mfa) in Beck
 um financieel te ondersteunen. De stichting bestaat uit Danny en Pascal Ot
 tink\, Stefan de Wit\, Laura Oversteegen\, Roy Boenders en Huub Vossebeld.
 \n\nMeer informatie over het concert van Boh Foi Toch en de activiteiten v
 an Stichting Hard Voor Beckum zal binnenkort bekend worden gemaakt in op d
 eze site.
ATTACH;FMTTYPE=image/jpeg:https://www.beckum.nl/site/main/wp-content/uploa
 ds/2025/12/BohFoiToch.webp
END:VEVENT
BEGIN:VTIMEZONE
TZID:Europe/Amsterdam
X-LIC-LOCATION:Europe/Amsterdam
BEGIN:DAYLIGHT
DTSTART:20260329T030000
TZOFFSETFROM:+0100
TZOFFSETTO:+0200
TZNAME:CEST
END:DAYLIGHT
END:VTIMEZONE
END:VCALENDAR