BEGIN:VCALENDAR
VERSION:2.0
PRODID:-//wp-events-plugin.com//7.2.3.1//EN
TZID:Europe/Amsterdam
X-WR-TIMEZONE:Europe/Amsterdam
BEGIN:VEVENT
UID:1778@beckum.nl
DTSTART;TZID=Europe/Amsterdam:20261006T190000
DTEND;TZID=Europe/Amsterdam:20261006T210000
DTSTAMP:20260215T132151Z
URL:https://www.beckum.nl/evenementen/herhalingscursus-aed-4/
SUMMARY:Herhalingscursus AED
DESCRIPTION:Herhalingscursus AED in de Oelerschool\n\nOrganisatie is in han
 den van stichting Hart voor Oele.\n\nDatums van dit jaar zijn:\nDi 6 oktob
 er\nDi 3 november\nWo 18 november
ATTACH;FMTTYPE=image/jpeg:https://www.beckum.nl/site/main/wp-content/uploa
 ds/2015/03/aed.png
END:VEVENT
BEGIN:VTIMEZONE
TZID:Europe/Amsterdam
X-LIC-LOCATION:Europe/Amsterdam
BEGIN:DAYLIGHT
DTSTART:20260329T030000
TZOFFSETFROM:+0100
TZOFFSETTO:+0200
TZNAME:CEST
END:DAYLIGHT
END:VTIMEZONE
END:VCALENDAR