BEGIN:VCALENDAR
VERSION:2.0
PRODID:-//wp-events-plugin.com//7.2.3.1//EN
TZID:Europe/Amsterdam
X-WR-TIMEZONE:Europe/Amsterdam
BEGIN:VEVENT
UID:1780@beckum.nl
DTSTART;TZID=Europe/Amsterdam:20261118T190000
DTEND;TZID=Europe/Amsterdam:20261118T210000
DTSTAMP:20260215T132320Z
URL:https://www.beckum.nl/evenementen/herhalingscursus-aed-6/
SUMMARY:Herhalingscursus AED
DESCRIPTION:Herhalingscursus AED in de Oelerschool\n\nOrganisatie is in han
 den van stichting Hart voor Oele.
ATTACH;FMTTYPE=image/jpeg:https://www.beckum.nl/site/main/wp-content/uploa
 ds/2015/03/aed.png
END:VEVENT
BEGIN:VTIMEZONE
TZID:Europe/Amsterdam
X-LIC-LOCATION:Europe/Amsterdam
BEGIN:STANDARD
DTSTART:20261025T020000
TZOFFSETFROM:+0200
TZOFFSETTO:+0100
TZNAME:CET
END:STANDARD
END:VTIMEZONE
END:VCALENDAR