BEGIN:VCALENDAR
VERSION:2.0
PRODID:-//wp-events-plugin.com//7.2.3.1//EN
TZID:Europe/Amsterdam
X-WR-TIMEZONE:Europe/Amsterdam
BEGIN:VEVENT
UID:1802@beckum.nl
DTSTART;TZID=Europe/Amsterdam:20260413T200000
DTEND;TZID=Europe/Amsterdam:20260413T210000
DTSTAMP:20260316T194423Z
URL:https://www.beckum.nl/evenementen/jaarvergadering-dorpsraad/
SUMMARY:Jaarvergadering Dorpsraad
DESCRIPTION:Dorpsraad Bruisend Beckum houdt haar jaarvergadering in ‘t Pr
 oggiehoes. \n\nAanvang 20.00 uur\n 
ATTACH;FMTTYPE=image/jpeg:https://www.beckum.nl/site/main/wp-content/uploa
 ds/2026/02/Dorpsraad-Beckum.png
END:VEVENT
BEGIN:VTIMEZONE
TZID:Europe/Amsterdam
X-LIC-LOCATION:Europe/Amsterdam
BEGIN:DAYLIGHT
DTSTART:20260329T030000
TZOFFSETFROM:+0100
TZOFFSETTO:+0200
TZNAME:CEST
END:DAYLIGHT
END:VTIMEZONE
END:VCALENDAR