BEGIN:VCALENDAR
VERSION:2.0
PRODID:-//wp-events-plugin.com//7.2.3.1//EN
TZID:Europe/Amsterdam
X-WR-TIMEZONE:Europe/Amsterdam
BEGIN:VEVENT
UID:1725@beckum.nl
DTSTART;TZID=Europe/Amsterdam:20260417T200000
DTEND;TZID=Europe/Amsterdam:20260417T235900
DTSTAMP:20251016T082547Z
URL:https://www.beckum.nl/evenementen/kaartavond-tvo-kantine-13/
SUMMARY:Kaartavond TVO kantine
DESCRIPTION:Kruisjassen en Hartenjagen in de TVO kantine.\nAanvang 20:00 uu
 r \nAanwezig uiterlijk 19:55 uur. \n\nEr kunnen in 2026 nog wijzigingen pl
 aatsvinden als FC Twente op een vrijdagavond thuis moet spelen.
ATTACH;FMTTYPE=image/jpeg:https://www.beckum.nl/site/main/wp-content/uploa
 ds/2015/08/4-kaarten-300x258.jpg
END:VEVENT
BEGIN:VTIMEZONE
TZID:Europe/Amsterdam
X-LIC-LOCATION:Europe/Amsterdam
BEGIN:DAYLIGHT
DTSTART:20260329T030000
TZOFFSETFROM:+0100
TZOFFSETTO:+0200
TZNAME:CEST
END:DAYLIGHT
END:VTIMEZONE
END:VCALENDAR