BEGIN:VCALENDAR
VERSION:2.0
PRODID:-//wp-events-plugin.com//7.2.3.1//EN
TZID:Europe/Amsterdam
X-WR-TIMEZONE:Europe/Amsterdam
BEGIN:VEVENT
UID:1754@beckum.nl
DTSTART;TZID=Europe/Amsterdam:20260516T090000
DTEND;TZID=Europe/Amsterdam:20260516T120000
DTSTAMP:20251211T201514Z
URL:https://www.beckum.nl/evenementen/oud-papier-inzameling-2-2026-01-17-2
 026-02-21-2026-03-21-2026-04-18-2026-05-16/
SUMMARY:Oud papier inzameling
DESCRIPTION:Op de 3e zaterdag van de maand kan het oud papier weer worden i
 ngeleverd bij de containers die TVO heeft laten opstellen bij de fa. Kamph
 uis Mengvoeders aan de Eetgerinksweg.
ATTACH;FMTTYPE=image/jpeg:https://www.beckum.nl/site/main/wp-content/uploa
 ds/2014/06/oud-papier-522x391.jpg
END:VEVENT
BEGIN:VTIMEZONE
TZID:Europe/Amsterdam
X-LIC-LOCATION:Europe/Amsterdam
BEGIN:DAYLIGHT
DTSTART:20260329T030000
TZOFFSETFROM:+0100
TZOFFSETTO:+0200
TZNAME:CEST
END:DAYLIGHT
END:VTIMEZONE
END:VCALENDAR