BEGIN:VCALENDAR
VERSION:2.0
PRODID:-//wp-events-plugin.com//7.2.3.1//EN
TZID:Europe/Amsterdam
X-WR-TIMEZONE:Europe/Amsterdam
BEGIN:VEVENT
UID:1739@beckum.nl
DTSTART;TZID=Europe/Amsterdam;VALUE=DATE:20260917
DTEND;TZID=Europe/Amsterdam;VALUE=DATE:20260918
DTSTAMP:20251113T082520Z
URL:https://www.beckum.nl/evenementen/ovbo-bedrijfsbezoek/
SUMMARY:OVBO bedrijfsbezoek
DESCRIPTION:OVBO bedrijfsbezoek
ATTACH;FMTTYPE=image/jpeg:https://www.beckum.nl/site/main/wp-content/uploa
 ds/2013/11/ovbo.png
END:VEVENT
BEGIN:VTIMEZONE
TZID:Europe/Amsterdam
X-LIC-LOCATION:Europe/Amsterdam
BEGIN:DAYLIGHT
DTSTART:20260329T030000
TZOFFSETFROM:+0100
TZOFFSETTO:+0200
TZNAME:CEST
END:DAYLIGHT
END:VTIMEZONE
END:VCALENDAR