BEGIN:VCALENDAR
VERSION:2.0
PRODID:-//wp-events-plugin.com//7.2.3.1//EN
TZID:Europe/Amsterdam
X-WR-TIMEZONE:Europe/Amsterdam
BEGIN:VEVENT
UID:1791@beckum.nl
DTSTART;TZID=Europe/Amsterdam:20260522T000000
DTEND;TZID=Europe/Amsterdam:20260525T000000
DTSTAMP:20260310T030440Z
URL:https://www.beckum.nl/evenementen/pinksterfeesten/
SUMMARY:Pinksterfeesten
DESCRIPTION:De Pinksterfeesten zijn een jaarlijks terugkerend feest tijdens
  het Pinksterweekend van vrijdag tot en met maandag. De Pinksterfeesten  b
 rengt gemeenschap samen en zorgt voor een weekend vol activiteiten en muzi
 ek. Van jong tot oud\, iedereen geniet hier van een weekend vol entertainm
 ent en gezelligheid.\n\nDe Pinksterfeesten Beckum worden georganiseerd doo
 r de in 1919 opgerichte Stichting Zomerfeesten Beckum. De stichting organi
 seert in samenwerking met en ten behoeve van alle Beckumer verenigingen\, 
 tijdens Pinksteren\, de Pinksterfeesten Beckum.\n\nKlik hier  voor het pro
 gramma. \n\nDatum: 22 t/m 25 mei 2026\nTijd: hele dag\nLocatie: Feestterre
 in Het Ossenveeld\nHaaksbergerstraat 153\n7554 PA Beckum
ATTACH;FMTTYPE=image/jpeg:https://www.beckum.nl/site/main/wp-content/uploa
 ds/2020/02/Pinksterfeesten.png
END:VEVENT
BEGIN:VTIMEZONE
TZID:Europe/Amsterdam
X-LIC-LOCATION:Europe/Amsterdam
BEGIN:DAYLIGHT
DTSTART:20260329T030000
TZOFFSETFROM:+0100
TZOFFSETTO:+0200
TZNAME:CEST
END:DAYLIGHT
END:VTIMEZONE
END:VCALENDAR