BEGIN:VCALENDAR
VERSION:2.0
PRODID:-//wp-events-plugin.com//7.2.3.1//EN
TZID:Europe/Amsterdam
X-WR-TIMEZONE:Europe/Amsterdam
BEGIN:VEVENT
UID:1789@beckum.nl
DTSTART;TZID=Europe/Amsterdam:20260506T090000
DTEND;TZID=Europe/Amsterdam:20260506T120000
DTSTAMP:20260305T154614Z
URL:https://www.beckum.nl/evenementen/repaircafe-beckum-oele-3/
SUMMARY:Repaircafé Beckum Oele
DESCRIPTION:Samen repareren\, ontmoeten en hergebruiken. Heb je een kapot a
 pparaat\, een fiets die rammelt of een meubelstuk dat een tweede kans verd
 ient? Kom dan langs bij de Open werkplaats Beckum en Oele (WEBO).\n\n\n\nT
 ijdens deze ochtenden staan handige vrijwilligers klaar om samen met jou a
 an de slag te gaan. Het doel is niet alleen repareren\, maar ook het delen
  van kennis en het versterken van de buurt. Weggooien is immers zonde als 
 herstel nog mogelijk is.\n\nWat kun je meebrengen?\n• Kleine huishoudeli
 jke apparaten en lampen.\n• Elektronica\, snoeren en gereedschap.\n• F
 ietsen en houten voorwerpen.\n• Vragen over pc's of mobiele telefoons.\n
 Naast de reparaties is er altijd ruimte voor een kop koffie en een goed ge
 sprek. De toegang is gratis.\n\n• Waar: Meester Verbernestraat 42\n• T
 ijd: Van 9.00 tot 12.00 uur.\n• Contact: Voor vragen of aanmelden als vr
 ijwilliger: 06-13 76 13 75.
ATTACH;FMTTYPE=image/jpeg:https://www.beckum.nl/site/main/wp-content/uploa
 ds/2026/02/6ea73756-4491-49fa-baa2-092c68dec2f7.jpeg
END:VEVENT
BEGIN:VTIMEZONE
TZID:Europe/Amsterdam
X-LIC-LOCATION:Europe/Amsterdam
BEGIN:DAYLIGHT
DTSTART:20260329T030000
TZOFFSETFROM:+0100
TZOFFSETTO:+0200
TZNAME:CEST
END:DAYLIGHT
END:VTIMEZONE
END:VCALENDAR