BEGIN:VCALENDAR
VERSION:2.0
PRODID:-//wp-events-plugin.com//7.2.3.1//EN
TZID:Europe/Amsterdam
X-WR-TIMEZONE:Europe/Amsterdam
BEGIN:VEVENT
UID:1685@beckum.nl
DTSTART;TZID=Europe/Amsterdam:20260414T000000
DTEND;TZID=Europe/Amsterdam:20260414T235900
DTSTAMP:20250822T062830Z
URL:https://www.beckum.nl/evenementen/soos-8/
SUMMARY:Soos
DESCRIPTION:De data voor de Soos zijn:\n\n9 sept Busreis\n14 okt samen met 
 de Zonnebloem\n11 nov Soos\n16 dec Kerstmiddag\n\n2026\n6 jan Soos\n3 febr
  Samen met Bentelo bij ‘t Wapen van Beckum\n3 maart Soos\n14 april Soos
ATTACH;FMTTYPE=image/jpeg:https://www.beckum.nl/site/main/wp-content/uploa
 ds/2014/03/agenda.png
END:VEVENT
BEGIN:VTIMEZONE
TZID:Europe/Amsterdam
X-LIC-LOCATION:Europe/Amsterdam
BEGIN:DAYLIGHT
DTSTART:20260329T030000
TZOFFSETFROM:+0100
TZOFFSETTO:+0200
TZNAME:CEST
END:DAYLIGHT
END:VTIMEZONE
END:VCALENDAR