BEGIN:VCALENDAR
VERSION:2.0
PRODID:-//wp-events-plugin.com//7.2.3.1//EN
TZID:Europe/Amsterdam
X-WR-TIMEZONE:Europe/Amsterdam
BEGIN:VEVENT
UID:1808@beckum.nl
DTSTART;TZID=Europe/Amsterdam:20260928T190000
DTEND;TZID=Europe/Amsterdam:20260928T213000
DTSTAMP:20260414T173359Z
URL:https://www.beckum.nl/evenementen/tvo-jaarvergaderingen/
SUMMARY:TVO Jaarvergaderingen
DESCRIPTION:De jaarvergaderingen van de Omni en afdelingen. 
END:VEVENT
BEGIN:VTIMEZONE
TZID:Europe/Amsterdam
X-LIC-LOCATION:Europe/Amsterdam
BEGIN:DAYLIGHT
DTSTART:20260329T030000
TZOFFSETFROM:+0100
TZOFFSETTO:+0200
TZNAME:CEST
END:DAYLIGHT
END:VTIMEZONE
END:VCALENDAR