BEGIN:VCALENDAR
VERSION:2.0
PRODID:-//wp-events-plugin.com//7.2.3.1//EN
TZID:Europe/Amsterdam
X-WR-TIMEZONE:Europe/Amsterdam
BEGIN:VEVENT
UID:1764@beckum.nl
DTSTART;TZID=Europe/Amsterdam:20260711T150000
DTEND;TZID=Europe/Amsterdam:20260711T220000
DTSTAMP:20251212T132044Z
URL:https://www.beckum.nl/evenementen/tvo-sponsortoernooi/
SUMMARY:TVO Sponsortoernooi
DESCRIPTION:Na het succes van vorig jaar organiseert TVO OMNI ook dit jaar 
 weer een sponsor voetbaltoernooi!\n
ATTACH;FMTTYPE=image/jpeg:https://www.beckum.nl/site/main/wp-content/uploa
 ds/2014/09/logotvo-vierkant.jpg
END:VEVENT
BEGIN:VTIMEZONE
TZID:Europe/Amsterdam
X-LIC-LOCATION:Europe/Amsterdam
BEGIN:DAYLIGHT
DTSTART:20260329T030000
TZOFFSETFROM:+0100
TZOFFSETTO:+0200
TZNAME:CEST
END:DAYLIGHT
END:VTIMEZONE
END:VCALENDAR