BEGIN:VCALENDAR
VERSION:2.0
PRODID:-//wp-events-plugin.com//7.2.3.1//EN
TZID:Europe/Amsterdam
X-WR-TIMEZONE:Europe/Amsterdam
BEGIN:VEVENT
UID:1763@beckum.nl
DTSTART;TZID=Europe/Amsterdam:20260419T120000
DTEND;TZID=Europe/Amsterdam:20260419T200000
DTSTAMP:20251212T125658Z
URL:https://www.beckum.nl/evenementen/tvo-super-sunday/
SUMMARY:TVO Super Sunday
DESCRIPTION:Jaarlijkse Super Sunday bij TVO! \nAlle teams van TVO voetbal s
 pelen thuis en na de tijd is er weer een gezellige derde helft met natuurl
 ijk het rad van fortuin!\n\nLocatie: TVO kantine
ATTACH;FMTTYPE=image/jpeg:https://www.beckum.nl/site/main/wp-content/uploa
 ds/2014/09/logotvo-vierkant.jpg
END:VEVENT
BEGIN:VTIMEZONE
TZID:Europe/Amsterdam
X-LIC-LOCATION:Europe/Amsterdam
BEGIN:DAYLIGHT
DTSTART:20260329T030000
TZOFFSETFROM:+0100
TZOFFSETTO:+0200
TZNAME:CEST
END:DAYLIGHT
END:VTIMEZONE
END:VCALENDAR