BEGIN:VCALENDAR
VERSION:2.0
PRODID:-//wp-events-plugin.com//7.2.3.1//EN
TZID:Europe/Amsterdam
X-WR-TIMEZONE:Europe/Amsterdam
BEGIN:VEVENT
UID:1801@beckum.nl
DTSTART;TZID=Europe/Amsterdam:20260330T200000
DTEND;TZID=Europe/Amsterdam:20260330T210000
DTSTAMP:20260316T194229Z
URL:https://www.beckum.nl/evenementen/tvo-tennis-jaarvergadering/
SUMMARY:TVO tennis jaarvergadering
DESCRIPTION:TVO tennis houdt haar jaarvergadering in de kantine van ‘t Ge
 ertman. 
ATTACH;FMTTYPE=image/jpeg:https://www.beckum.nl/site/main/wp-content/uploa
 ds/2014/06/tvotennis.jpg
END:VEVENT
BEGIN:VTIMEZONE
TZID:Europe/Amsterdam
X-LIC-LOCATION:Europe/Amsterdam
BEGIN:DAYLIGHT
DTSTART:20260329T030000
TZOFFSETFROM:+0100
TZOFFSETTO:+0200
TZNAME:CEST
END:DAYLIGHT
END:VTIMEZONE
END:VCALENDAR