BEGIN:VCALENDAR
VERSION:2.0
PRODID:-//wp-events-plugin.com//7.2.3.1//EN
TZID:Europe/Amsterdam
X-WR-TIMEZONE:Europe/Amsterdam
BEGIN:VEVENT
UID:1798@beckum.nl
DTSTART;TZID=Europe/Amsterdam:20270323T000000
DTEND;TZID=Europe/Amsterdam:20270323T000000
DTSTAMP:20260312T101557Z
URL:https://www.beckum.nl/evenementen/vrouw-actief-11/
SUMMARY:Vrouw Actief
DESCRIPTION:In 't Proggiehoes\, nadere info volgt.
ATTACH;FMTTYPE=image/jpeg:https://www.beckum.nl/site/main/wp-content/uploa
 ds/2014/11/LOGO-Vrouw-Actief-300px.png
END:VEVENT
BEGIN:VTIMEZONE
TZID:Europe/Amsterdam
X-LIC-LOCATION:Europe/Amsterdam
BEGIN:STANDARD
DTSTART:20261025T020000
TZOFFSETFROM:+0200
TZOFFSETTO:+0100
TZNAME:CET
END:STANDARD
END:VTIMEZONE
END:VCALENDAR