BEGIN:VCALENDAR
VERSION:2.0
PRODID:-//wp-events-plugin.com//7.2.3.1//EN
TZID:Europe/Amsterdam
X-WR-TIMEZONE:Europe/Amsterdam
BEGIN:VEVENT
UID:1698@beckum.nl
DTSTART;TZID=Europe/Amsterdam:20260408T133000
DTEND;TZID=Europe/Amsterdam:20260408T163000
DTSTAMP:20250904T170108Z
URL:https://www.beckum.nl/evenementen/vrouw-actief-6/
SUMMARY:Vrouw Actief
DESCRIPTION:Het seizoen ‘25-‘26:\n \n 8 en 15 april 2026 Bezoek textiel
 bedrijf L. ten Cate te Borne \n 20 mei 2026 Middag fietstocht \n 17 juni 2
 026 Bustocht\n
ATTACH;FMTTYPE=image/jpeg:https://www.beckum.nl/site/main/wp-content/uploa
 ds/2014/11/LOGO-Vrouw-Actief-300px.png
END:VEVENT
BEGIN:VTIMEZONE
TZID:Europe/Amsterdam
X-LIC-LOCATION:Europe/Amsterdam
BEGIN:DAYLIGHT
DTSTART:20260329T030000
TZOFFSETFROM:+0100
TZOFFSETTO:+0200
TZNAME:CEST
END:DAYLIGHT
END:VTIMEZONE
END:VCALENDAR