BEGIN:VCALENDAR
VERSION:2.0
PRODID:-//wp-events-plugin.com//7.2.3.1//EN
TZID:Europe/Amsterdam
X-WR-TIMEZONE:Europe/Amsterdam
BEGIN:VEVENT
UID:84@beckum.nl
DTSTART;TZID=Europe/Amsterdam:20260330T200000
DTEND;TZID=Europe/Amsterdam:20260330T213000
DTSTAMP:20260301T211143Z
URL:https://www.beckum.nl/verenigingen/tvotennis/events/algemene-ledenverg
 adering/
SUMMARY:Algemene Ledenvergadering
DESCRIPTION:
END:VEVENT
BEGIN:VTIMEZONE
TZID:Europe/Amsterdam
X-LIC-LOCATION:Europe/Amsterdam
BEGIN:DAYLIGHT
DTSTART:20260329T030000
TZOFFSETFROM:+0100
TZOFFSETTO:+0200
TZNAME:CEST
END:DAYLIGHT
END:VTIMEZONE
END:VCALENDAR