BEGIN:VCALENDAR
VERSION:2.0
PRODID:-//wp-events-plugin.com//7.2.3.1//EN
TZID:Europe/Amsterdam
X-WR-TIMEZONE:Europe/Amsterdam
BEGIN:VEVENT
UID:90@beckum.nl
DTSTART;TZID=Europe/Amsterdam:20260508T190000
DTEND;TZID=Europe/Amsterdam:20260508T193000
DTSTAMP:20260322T180422Z
URL:https://www.beckum.nl/verenigingen/tvotennis/events/ready-oldenzaal-1-
 tvo-1/
SUMMARY:Ready Oldenzaal 1 - TVO 1
DESCRIPTION:Uitwedstrijd
END:VEVENT
BEGIN:VTIMEZONE
TZID:Europe/Amsterdam
X-LIC-LOCATION:Europe/Amsterdam
BEGIN:DAYLIGHT
DTSTART:20260329T030000
TZOFFSETFROM:+0100
TZOFFSETTO:+0200
TZNAME:CEST
END:DAYLIGHT
END:VTIMEZONE
END:VCALENDAR